BEGIN:VCALENDAR
VERSION:2.0
PRODID:-//Joe Baca, Jr. Fifth District Supervisor - ECPv6.15.14//NONSGML v1.0//EN
CALSCALE:GREGORIAN
METHOD:PUBLISH
X-WR-CALNAME:Joe Baca, Jr. Fifth District Supervisor
X-ORIGINAL-URL:https://bosd5.sbcounty.gov
X-WR-CALDESC:Events for Joe Baca, Jr. Fifth District Supervisor
REFRESH-INTERVAL;VALUE=DURATION:PT1H
X-Robots-Tag:noindex
X-PUBLISHED-TTL:PT1H
BEGIN:VTIMEZONE
TZID:UTC
BEGIN:STANDARD
TZOFFSETFROM:+0000
TZOFFSETTO:+0000
TZNAME:UTC
DTSTART:20220101T000000
END:STANDARD
END:VTIMEZONE
BEGIN:VEVENT
DTSTART;VALUE=DATE:20240115
DTEND;VALUE=DATE:20240116
DTSTAMP:20260420T180429
CREATED:20231129T070047Z
LAST-MODIFIED:20231129T070047Z
UID:10000689-1705276800-1705363199@bosd5.sbcounty.gov
SUMMARY:Martin Luther King's Birthday - Federal Holiday
DESCRIPTION:
URL:https://bosd5.sbcounty.gov/event/martin-luther-kings-birthday-federal-holiday/
CATEGORIES:Holidays
ATTACH;FMTTYPE=image/jpeg:https://bosd5.sbcounty.gov/wp-content/uploads/sites/108/2023/10/MartinLutherKingDay.jpg
END:VEVENT
BEGIN:VEVENT
DTSTART;VALUE=DATE:20240101
DTEND;VALUE=DATE:20240103
DTSTAMP:20260420T180429
CREATED:20231129T065755Z
LAST-MODIFIED:20231129T065755Z
UID:10000695-1704067200-1704239999@bosd5.sbcounty.gov
SUMMARY:Happy New Year - Federal Holiday
DESCRIPTION:
URL:https://bosd5.sbcounty.gov/event/happy-new-year-federal-holiday/
CATEGORIES:Holidays
ATTACH;FMTTYPE=image/jpeg:https://bosd5.sbcounty.gov/wp-content/uploads/sites/108/2023/10/HappyNewYear.jpg
END:VEVENT
BEGIN:VEVENT
DTSTART;TZID=UTC:20231225T080000
DTEND;TZID=UTC:20231226T170000
DTSTAMP:20260420T180429
CREATED:20231025T014524Z
LAST-MODIFIED:20231026T053716Z
UID:10000701-1703491200-1703610000@bosd5.sbcounty.gov
SUMMARY:Christmas (County Holiday)
DESCRIPTION:
URL:https://bosd5.sbcounty.gov/event/christmas/
CATEGORIES:Holidays
ATTACH;FMTTYPE=image/jpeg:https://bosd5.sbcounty.gov/wp-content/uploads/sites/108/2023/10/Christmas.jpg
END:VEVENT
BEGIN:VEVENT
DTSTART;TZID=UTC:20231123T080000
DTEND;TZID=UTC:20231124T170000
DTSTAMP:20260420T180429
CREATED:20231025T014318Z
LAST-MODIFIED:20231026T053754Z
UID:10000704-1700726400-1700845200@bosd5.sbcounty.gov
SUMMARY:Thanksgiving (County Holiday)
DESCRIPTION:
URL:https://bosd5.sbcounty.gov/event/thanksgiving/
CATEGORIES:Holidays
ATTACH;FMTTYPE=image/jpeg:https://bosd5.sbcounty.gov/wp-content/uploads/sites/108/2023/10/Thanksgiving.jpg
END:VEVENT
BEGIN:VEVENT
DTSTART;TZID=UTC:20231115T103000
DTEND;TZID=UTC:20231115T123000
DTSTAMP:20260420T180429
CREATED:20231025T015025Z
LAST-MODIFIED:20231026T053814Z
UID:10000698-1700044200-1700051400@bosd5.sbcounty.gov
SUMMARY:Creating Healthier Lives Nutrition Class
DESCRIPTION:
URL:https://bosd5.sbcounty.gov/event/creating-healthier-lives-nutrition-class/
LOCATION:Rialto Farmer’s Market\, 150 S. Palm Ave\, Rialto\, CA\, 92376\, United States
CATEGORIES:Rialto
ATTACH;FMTTYPE=image/jpeg:https://bosd5.sbcounty.gov/wp-content/uploads/sites/108/2023/10/Health.jpg
END:VEVENT
BEGIN:VEVENT
DTSTART;TZID=UTC:20231110T080000
DTEND;TZID=UTC:20231110T170000
DTSTAMP:20260420T180429
CREATED:20231025T013825Z
LAST-MODIFIED:20231026T053851Z
UID:10000707-1699603200-1699635600@bosd5.sbcounty.gov
SUMMARY:Veterans Day (County Holiday)
DESCRIPTION:
URL:https://bosd5.sbcounty.gov/event/veterans-day/
CATEGORIES:Holidays
ATTACH;FMTTYPE=image/jpeg:https://bosd5.sbcounty.gov/wp-content/uploads/sites/108/2023/10/VeteransDay.jpg
END:VEVENT
BEGIN:VEVENT
DTSTART;TZID=UTC:20231027T210000
DTEND;TZID=UTC:20231027T230000
DTSTAMP:20260420T180429
CREATED:20231025T013343Z
LAST-MODIFIED:20240214T063327Z
UID:10000710-1698440400-1698447600@bosd5.sbcounty.gov
SUMMARY:Fall Resource Fair
DESCRIPTION:Visit local businesses and find valuable resources for a fun day of discovery.
URL:https://bosd5.sbcounty.gov/event/fall-resource-fair/
CATEGORIES:San Bernardino
ATTACH;FMTTYPE=image/jpeg:https://bosd5.sbcounty.gov/wp-content/uploads/sites/108/2023/10/FallFestival.jpg
END:VEVENT
END:VCALENDAR