BEGIN:VCALENDAR
VERSION:2.0
PRODID:-//Joe Baca, Jr. Fifth District Supervisor - ECPv6.15.14//NONSGML v1.0//EN
CALSCALE:GREGORIAN
METHOD:PUBLISH
X-WR-CALNAME:Joe Baca, Jr. Fifth District Supervisor
X-ORIGINAL-URL:https://bosd5.sbcounty.gov
X-WR-CALDESC:Events for Joe Baca, Jr. Fifth District Supervisor
REFRESH-INTERVAL;VALUE=DURATION:PT1H
X-Robots-Tag:noindex
X-PUBLISHED-TTL:PT1H
BEGIN:VTIMEZONE
TZID:UTC
BEGIN:STANDARD
TZOFFSETFROM:+0000
TZOFFSETTO:+0000
TZNAME:UTC
DTSTART:20230101T000000
END:STANDARD
END:VTIMEZONE
BEGIN:VEVENT
DTSTART;TZID=UTC:20240410T100000
DTEND;TZID=UTC:20240410T140000
DTSTAMP:20260419T201916
CREATED:20240125T075815Z
LAST-MODIFIED:20240203T023544Z
UID:10000767-1712743200-1712757600@bosd5.sbcounty.gov
SUMMARY:Rialto Certified Farmers Market
DESCRIPTION:Fresh fruits and vegetables\, fresh eggs\, locally sourced honey\, baked goods\, nuts\, juice and much more. \nOpen year round. \nSNAP/EBT is accepted.
URL:https://bosd5.sbcounty.gov/event/rialto-certified-farmers-market/2024-04-10/
LOCATION:Rialto Certified Farmer’s Market\, 290 W Rialto Avenue\, Rialto\, 92376
CATEGORIES:Rialto
ATTACH;FMTTYPE=image/jpeg:https://bosd5.sbcounty.gov/wp-content/uploads/sites/108/2024/01/Farmers-Market.jpg
END:VEVENT
BEGIN:VEVENT
DTSTART;TZID=UTC:20240410T083000
DTEND;TZID=UTC:20240410T133000
DTSTAMP:20260419T201916
CREATED:20240126T080538Z
LAST-MODIFIED:20240203T023643Z
UID:10001085-1712737800-1712755800@bosd5.sbcounty.gov
SUMMARY:Arrowhead Regional Medical Center Certified Farmers Market
DESCRIPTION:Our weekly Farmers’ Market is open each Wednesday from 8:30 a.m. to 1:30 p.m. on the ARMC campus outside the main hospital entrance. We can’t wait to see you!
URL:https://bosd5.sbcounty.gov/event/arrowhead-regional-medical-center-certified-farmers-market/2024-04-10/
LOCATION:Arrowhead Regional Medical Center\, 400 N Pepper Avenue\, Colton\, CA\, 92324\, United States
CATEGORIES:Colton
ATTACH;FMTTYPE=image/jpeg:https://bosd5.sbcounty.gov/wp-content/uploads/sites/108/2024/01/Fresh-produce.jpg
END:VEVENT
BEGIN:VEVENT
DTSTART;TZID=UTC:20240409T080000
DTEND;TZID=UTC:20240409T130000
DTSTAMP:20260419T201916
CREATED:20240125T092344Z
LAST-MODIFIED:20240203T014048Z
UID:10000923-1712649600-1712667600@bosd5.sbcounty.gov
SUMMARY:San Bernardino Certified Farmers Market
DESCRIPTION:Over 20 vendors gather to sale farm fresh produce and baked goods every Tuesday.  Market is open year round.
URL:https://bosd5.sbcounty.gov/event/san-bernardino-certified-farmers-market/2024-04-09/
LOCATION:San Bernardino Certified Farmer’s Market\, 349 North E. Street\, San Bernardino\, CA\, 92401\, United States
CATEGORIES:San Bernardino
ATTACH;FMTTYPE=image/jpeg:https://bosd5.sbcounty.gov/wp-content/uploads/sites/108/2024/01/Farmers-Market-2.jpg
END:VEVENT
BEGIN:VEVENT
DTSTART;TZID=UTC:20240406T080000
DTEND;TZID=UTC:20240406T120000
DTSTAMP:20260419T201916
CREATED:20240126T084934Z
LAST-MODIFIED:20240126T084934Z
UID:10001298-1712390400-1712404800@bosd5.sbcounty.gov
SUMMARY:Household Hazardous Waste Drop-Off
DESCRIPTION:Event takes place behind building.
URL:https://bosd5.sbcounty.gov/event/household-hazardous-waste-drop-off-2/2024-04-06/
LOCATION:Rialto Certified Farmer’s Market\, 290 W Rialto Avenue\, Rialto\, 92376
CATEGORIES:Rialto
ATTACH;FMTTYPE=image/jpeg:https://bosd5.sbcounty.gov/wp-content/uploads/sites/108/2024/01/hazardous-waste.jpg
END:VEVENT
BEGIN:VEVENT
DTSTART;TZID=UTC:20240405T080000
DTEND;TZID=UTC:20240405T120000
DTSTAMP:20260419T201916
CREATED:20240126T084703Z
LAST-MODIFIED:20240126T084703Z
UID:10001226-1712304000-1712318400@bosd5.sbcounty.gov
SUMMARY:Household Hazardous Waste Drop-Off
DESCRIPTION:Event takes place behind building. \n 
URL:https://bosd5.sbcounty.gov/event/household-hazardous-waste-drop-off/2024-04-05/
LOCATION:Rialto Hazardous Waste Drop-Off\, 246 S. Willow Ave.\, Rialto\, CA\, 92376\, United States
CATEGORIES:Rialto
ATTACH;FMTTYPE=image/jpeg:https://bosd5.sbcounty.gov/wp-content/uploads/sites/108/2024/01/hazardous-waste.jpg
END:VEVENT
BEGIN:VEVENT
DTSTART;TZID=UTC:20240403T100000
DTEND;TZID=UTC:20240403T140000
DTSTAMP:20260419T201916
CREATED:20240125T075815Z
LAST-MODIFIED:20240203T023544Z
UID:10000764-1712138400-1712152800@bosd5.sbcounty.gov
SUMMARY:Rialto Certified Farmers Market
DESCRIPTION:Fresh fruits and vegetables\, fresh eggs\, locally sourced honey\, baked goods\, nuts\, juice and much more. \nOpen year round. \nSNAP/EBT is accepted.
URL:https://bosd5.sbcounty.gov/event/rialto-certified-farmers-market/2024-04-03/
LOCATION:Rialto Certified Farmer’s Market\, 290 W Rialto Avenue\, Rialto\, 92376
CATEGORIES:Rialto
ATTACH;FMTTYPE=image/jpeg:https://bosd5.sbcounty.gov/wp-content/uploads/sites/108/2024/01/Farmers-Market.jpg
END:VEVENT
BEGIN:VEVENT
DTSTART;TZID=UTC:20240403T083000
DTEND;TZID=UTC:20240403T133000
DTSTAMP:20260419T201916
CREATED:20240126T080538Z
LAST-MODIFIED:20240203T023643Z
UID:10001082-1712133000-1712151000@bosd5.sbcounty.gov
SUMMARY:Arrowhead Regional Medical Center Certified Farmers Market
DESCRIPTION:Our weekly Farmers’ Market is open each Wednesday from 8:30 a.m. to 1:30 p.m. on the ARMC campus outside the main hospital entrance. We can’t wait to see you!
URL:https://bosd5.sbcounty.gov/event/arrowhead-regional-medical-center-certified-farmers-market/2024-04-03/
LOCATION:Arrowhead Regional Medical Center\, 400 N Pepper Avenue\, Colton\, CA\, 92324\, United States
CATEGORIES:Colton
ATTACH;FMTTYPE=image/jpeg:https://bosd5.sbcounty.gov/wp-content/uploads/sites/108/2024/01/Fresh-produce.jpg
END:VEVENT
BEGIN:VEVENT
DTSTART;TZID=UTC:20240402T080000
DTEND;TZID=UTC:20240402T130000
DTSTAMP:20260419T201916
CREATED:20240125T092344Z
LAST-MODIFIED:20240203T014048Z
UID:10000920-1712044800-1712062800@bosd5.sbcounty.gov
SUMMARY:San Bernardino Certified Farmers Market
DESCRIPTION:Over 20 vendors gather to sale farm fresh produce and baked goods every Tuesday.  Market is open year round.
URL:https://bosd5.sbcounty.gov/event/san-bernardino-certified-farmers-market/2024-04-02/
LOCATION:San Bernardino Certified Farmer’s Market\, 349 North E. Street\, San Bernardino\, CA\, 92401\, United States
CATEGORIES:San Bernardino
ATTACH;FMTTYPE=image/jpeg:https://bosd5.sbcounty.gov/wp-content/uploads/sites/108/2024/01/Farmers-Market-2.jpg
END:VEVENT
BEGIN:VEVENT
DTSTART;TZID=UTC:20240327T100000
DTEND;TZID=UTC:20240327T140000
DTSTAMP:20260419T201916
CREATED:20240125T075815Z
LAST-MODIFIED:20240203T023544Z
UID:10000761-1711533600-1711548000@bosd5.sbcounty.gov
SUMMARY:Rialto Certified Farmers Market
DESCRIPTION:Fresh fruits and vegetables\, fresh eggs\, locally sourced honey\, baked goods\, nuts\, juice and much more. \nOpen year round. \nSNAP/EBT is accepted.
URL:https://bosd5.sbcounty.gov/event/rialto-certified-farmers-market/2024-03-27/
LOCATION:Rialto Certified Farmer’s Market\, 290 W Rialto Avenue\, Rialto\, 92376
CATEGORIES:Rialto
ATTACH;FMTTYPE=image/jpeg:https://bosd5.sbcounty.gov/wp-content/uploads/sites/108/2024/01/Farmers-Market.jpg
END:VEVENT
BEGIN:VEVENT
DTSTART;TZID=UTC:20240327T083000
DTEND;TZID=UTC:20240327T133000
DTSTAMP:20260419T201916
CREATED:20240126T080538Z
LAST-MODIFIED:20240203T023643Z
UID:10001079-1711528200-1711546200@bosd5.sbcounty.gov
SUMMARY:Arrowhead Regional Medical Center Certified Farmers Market
DESCRIPTION:Our weekly Farmers’ Market is open each Wednesday from 8:30 a.m. to 1:30 p.m. on the ARMC campus outside the main hospital entrance. We can’t wait to see you!
URL:https://bosd5.sbcounty.gov/event/arrowhead-regional-medical-center-certified-farmers-market/2024-03-27/
LOCATION:Arrowhead Regional Medical Center\, 400 N Pepper Avenue\, Colton\, CA\, 92324\, United States
CATEGORIES:Colton
ATTACH;FMTTYPE=image/jpeg:https://bosd5.sbcounty.gov/wp-content/uploads/sites/108/2024/01/Fresh-produce.jpg
END:VEVENT
BEGIN:VEVENT
DTSTART;TZID=UTC:20240326T080000
DTEND;TZID=UTC:20240326T130000
DTSTAMP:20260419T201916
CREATED:20240125T092344Z
LAST-MODIFIED:20240203T014048Z
UID:10000917-1711440000-1711458000@bosd5.sbcounty.gov
SUMMARY:San Bernardino Certified Farmers Market
DESCRIPTION:Over 20 vendors gather to sale farm fresh produce and baked goods every Tuesday.  Market is open year round.
URL:https://bosd5.sbcounty.gov/event/san-bernardino-certified-farmers-market/2024-03-26/
LOCATION:San Bernardino Certified Farmer’s Market\, 349 North E. Street\, San Bernardino\, CA\, 92401\, United States
CATEGORIES:San Bernardino
ATTACH;FMTTYPE=image/jpeg:https://bosd5.sbcounty.gov/wp-content/uploads/sites/108/2024/01/Farmers-Market-2.jpg
END:VEVENT
BEGIN:VEVENT
DTSTART;TZID=UTC:20240323T080000
DTEND;TZID=UTC:20240323T120000
DTSTAMP:20260419T201916
CREATED:20240126T084934Z
LAST-MODIFIED:20240126T084934Z
UID:10001295-1711180800-1711195200@bosd5.sbcounty.gov
SUMMARY:Household Hazardous Waste Drop-Off
DESCRIPTION:Event takes place behind building.
URL:https://bosd5.sbcounty.gov/event/household-hazardous-waste-drop-off-2/2024-03-23/
LOCATION:Rialto Certified Farmer’s Market\, 290 W Rialto Avenue\, Rialto\, 92376
CATEGORIES:Rialto
ATTACH;FMTTYPE=image/jpeg:https://bosd5.sbcounty.gov/wp-content/uploads/sites/108/2024/01/hazardous-waste.jpg
END:VEVENT
BEGIN:VEVENT
DTSTART;TZID=UTC:20240322T080000
DTEND;TZID=UTC:20240322T120000
DTSTAMP:20260419T201916
CREATED:20240126T084703Z
LAST-MODIFIED:20240126T084703Z
UID:10001223-1711094400-1711108800@bosd5.sbcounty.gov
SUMMARY:Household Hazardous Waste Drop-Off
DESCRIPTION:Event takes place behind building. \n 
URL:https://bosd5.sbcounty.gov/event/household-hazardous-waste-drop-off/2024-03-22/
LOCATION:Rialto Hazardous Waste Drop-Off\, 246 S. Willow Ave.\, Rialto\, CA\, 92376\, United States
CATEGORIES:Rialto
ATTACH;FMTTYPE=image/jpeg:https://bosd5.sbcounty.gov/wp-content/uploads/sites/108/2024/01/hazardous-waste.jpg
END:VEVENT
BEGIN:VEVENT
DTSTART;TZID=UTC:20240320T100000
DTEND;TZID=UTC:20240320T140000
DTSTAMP:20260419T201916
CREATED:20240125T075815Z
LAST-MODIFIED:20240203T023544Z
UID:10000758-1710928800-1710943200@bosd5.sbcounty.gov
SUMMARY:Rialto Certified Farmers Market
DESCRIPTION:Fresh fruits and vegetables\, fresh eggs\, locally sourced honey\, baked goods\, nuts\, juice and much more. \nOpen year round. \nSNAP/EBT is accepted.
URL:https://bosd5.sbcounty.gov/event/rialto-certified-farmers-market/2024-03-20/
LOCATION:Rialto Certified Farmer’s Market\, 290 W Rialto Avenue\, Rialto\, 92376
CATEGORIES:Rialto
ATTACH;FMTTYPE=image/jpeg:https://bosd5.sbcounty.gov/wp-content/uploads/sites/108/2024/01/Farmers-Market.jpg
END:VEVENT
BEGIN:VEVENT
DTSTART;TZID=UTC:20240320T083000
DTEND;TZID=UTC:20240320T133000
DTSTAMP:20260419T201916
CREATED:20240126T080538Z
LAST-MODIFIED:20240203T023643Z
UID:10001076-1710923400-1710941400@bosd5.sbcounty.gov
SUMMARY:Arrowhead Regional Medical Center Certified Farmers Market
DESCRIPTION:Our weekly Farmers’ Market is open each Wednesday from 8:30 a.m. to 1:30 p.m. on the ARMC campus outside the main hospital entrance. We can’t wait to see you!
URL:https://bosd5.sbcounty.gov/event/arrowhead-regional-medical-center-certified-farmers-market/2024-03-20/
LOCATION:Arrowhead Regional Medical Center\, 400 N Pepper Avenue\, Colton\, CA\, 92324\, United States
CATEGORIES:Colton
ATTACH;FMTTYPE=image/jpeg:https://bosd5.sbcounty.gov/wp-content/uploads/sites/108/2024/01/Fresh-produce.jpg
END:VEVENT
BEGIN:VEVENT
DTSTART;TZID=UTC:20240319T080000
DTEND;TZID=UTC:20240319T130000
DTSTAMP:20260419T201916
CREATED:20240125T092344Z
LAST-MODIFIED:20240203T014048Z
UID:10000914-1710835200-1710853200@bosd5.sbcounty.gov
SUMMARY:San Bernardino Certified Farmers Market
DESCRIPTION:Over 20 vendors gather to sale farm fresh produce and baked goods every Tuesday.  Market is open year round.
URL:https://bosd5.sbcounty.gov/event/san-bernardino-certified-farmers-market/2024-03-19/
LOCATION:San Bernardino Certified Farmer’s Market\, 349 North E. Street\, San Bernardino\, CA\, 92401\, United States
CATEGORIES:San Bernardino
ATTACH;FMTTYPE=image/jpeg:https://bosd5.sbcounty.gov/wp-content/uploads/sites/108/2024/01/Farmers-Market-2.jpg
END:VEVENT
BEGIN:VEVENT
DTSTART;TZID=UTC:20240313T100000
DTEND;TZID=UTC:20240313T140000
DTSTAMP:20260419T201916
CREATED:20240125T075815Z
LAST-MODIFIED:20240203T023544Z
UID:10000755-1710324000-1710338400@bosd5.sbcounty.gov
SUMMARY:Rialto Certified Farmers Market
DESCRIPTION:Fresh fruits and vegetables\, fresh eggs\, locally sourced honey\, baked goods\, nuts\, juice and much more. \nOpen year round. \nSNAP/EBT is accepted.
URL:https://bosd5.sbcounty.gov/event/rialto-certified-farmers-market/2024-03-13/
LOCATION:Rialto Certified Farmer’s Market\, 290 W Rialto Avenue\, Rialto\, 92376
CATEGORIES:Rialto
ATTACH;FMTTYPE=image/jpeg:https://bosd5.sbcounty.gov/wp-content/uploads/sites/108/2024/01/Farmers-Market.jpg
END:VEVENT
BEGIN:VEVENT
DTSTART;TZID=UTC:20240313T083000
DTEND;TZID=UTC:20240313T133000
DTSTAMP:20260419T201916
CREATED:20240126T080538Z
LAST-MODIFIED:20240203T023643Z
UID:10001073-1710318600-1710336600@bosd5.sbcounty.gov
SUMMARY:Arrowhead Regional Medical Center Certified Farmers Market
DESCRIPTION:Our weekly Farmers’ Market is open each Wednesday from 8:30 a.m. to 1:30 p.m. on the ARMC campus outside the main hospital entrance. We can’t wait to see you!
URL:https://bosd5.sbcounty.gov/event/arrowhead-regional-medical-center-certified-farmers-market/2024-03-13/
LOCATION:Arrowhead Regional Medical Center\, 400 N Pepper Avenue\, Colton\, CA\, 92324\, United States
CATEGORIES:Colton
ATTACH;FMTTYPE=image/jpeg:https://bosd5.sbcounty.gov/wp-content/uploads/sites/108/2024/01/Fresh-produce.jpg
END:VEVENT
BEGIN:VEVENT
DTSTART;TZID=UTC:20240312T080000
DTEND;TZID=UTC:20240312T130000
DTSTAMP:20260419T201916
CREATED:20240125T092344Z
LAST-MODIFIED:20240203T014048Z
UID:10000911-1710230400-1710248400@bosd5.sbcounty.gov
SUMMARY:San Bernardino Certified Farmers Market
DESCRIPTION:Over 20 vendors gather to sale farm fresh produce and baked goods every Tuesday.  Market is open year round.
URL:https://bosd5.sbcounty.gov/event/san-bernardino-certified-farmers-market/2024-03-12/
LOCATION:San Bernardino Certified Farmer’s Market\, 349 North E. Street\, San Bernardino\, CA\, 92401\, United States
CATEGORIES:San Bernardino
ATTACH;FMTTYPE=image/jpeg:https://bosd5.sbcounty.gov/wp-content/uploads/sites/108/2024/01/Farmers-Market-2.jpg
END:VEVENT
BEGIN:VEVENT
DTSTART;TZID=UTC:20240309T080000
DTEND;TZID=UTC:20240309T120000
DTSTAMP:20260419T201916
CREATED:20240126T084934Z
LAST-MODIFIED:20240126T084934Z
UID:10001292-1709971200-1709985600@bosd5.sbcounty.gov
SUMMARY:Household Hazardous Waste Drop-Off
DESCRIPTION:Event takes place behind building.
URL:https://bosd5.sbcounty.gov/event/household-hazardous-waste-drop-off-2/2024-03-09/
LOCATION:Rialto Certified Farmer’s Market\, 290 W Rialto Avenue\, Rialto\, 92376
CATEGORIES:Rialto
ATTACH;FMTTYPE=image/jpeg:https://bosd5.sbcounty.gov/wp-content/uploads/sites/108/2024/01/hazardous-waste.jpg
END:VEVENT
BEGIN:VEVENT
DTSTART;TZID=UTC:20240308T080000
DTEND;TZID=UTC:20240308T170000
DTSTAMP:20260419T201916
CREATED:20240120T074520Z
LAST-MODIFIED:20240125T074532Z
UID:10000713-1709884800-1709917200@bosd5.sbcounty.gov
SUMMARY:Bloomington Little League Opening Day Ceremonies
DESCRIPTION:More information coming soon
URL:https://bosd5.sbcounty.gov/event/bloomington-little-league-opening-day-ceremonies/
LOCATION:CA
CATEGORIES:Bloomington
ATTACH;FMTTYPE=image/jpeg:https://bosd5.sbcounty.gov/wp-content/uploads/sites/108/2023/09/Kessler-Park.jpg
END:VEVENT
BEGIN:VEVENT
DTSTART;TZID=UTC:20240308T080000
DTEND;TZID=UTC:20240308T120000
DTSTAMP:20260419T201916
CREATED:20240126T084703Z
LAST-MODIFIED:20240126T084703Z
UID:10001220-1709884800-1709899200@bosd5.sbcounty.gov
SUMMARY:Household Hazardous Waste Drop-Off
DESCRIPTION:Event takes place behind building. \n 
URL:https://bosd5.sbcounty.gov/event/household-hazardous-waste-drop-off/2024-03-08/
LOCATION:Rialto Hazardous Waste Drop-Off\, 246 S. Willow Ave.\, Rialto\, CA\, 92376\, United States
CATEGORIES:Rialto
ATTACH;FMTTYPE=image/jpeg:https://bosd5.sbcounty.gov/wp-content/uploads/sites/108/2024/01/hazardous-waste.jpg
END:VEVENT
BEGIN:VEVENT
DTSTART;TZID=UTC:20240306T100000
DTEND;TZID=UTC:20240306T140000
DTSTAMP:20260419T201916
CREATED:20240125T075815Z
LAST-MODIFIED:20240203T023544Z
UID:10000752-1709719200-1709733600@bosd5.sbcounty.gov
SUMMARY:Rialto Certified Farmers Market
DESCRIPTION:Fresh fruits and vegetables\, fresh eggs\, locally sourced honey\, baked goods\, nuts\, juice and much more. \nOpen year round. \nSNAP/EBT is accepted.
URL:https://bosd5.sbcounty.gov/event/rialto-certified-farmers-market/2024-03-06/
LOCATION:Rialto Certified Farmer’s Market\, 290 W Rialto Avenue\, Rialto\, 92376
CATEGORIES:Rialto
ATTACH;FMTTYPE=image/jpeg:https://bosd5.sbcounty.gov/wp-content/uploads/sites/108/2024/01/Farmers-Market.jpg
END:VEVENT
BEGIN:VEVENT
DTSTART;TZID=UTC:20240306T083000
DTEND;TZID=UTC:20240306T133000
DTSTAMP:20260419T201916
CREATED:20240126T080538Z
LAST-MODIFIED:20240203T023643Z
UID:10001070-1709713800-1709731800@bosd5.sbcounty.gov
SUMMARY:Arrowhead Regional Medical Center Certified Farmers Market
DESCRIPTION:Our weekly Farmers’ Market is open each Wednesday from 8:30 a.m. to 1:30 p.m. on the ARMC campus outside the main hospital entrance. We can’t wait to see you!
URL:https://bosd5.sbcounty.gov/event/arrowhead-regional-medical-center-certified-farmers-market/2024-03-06/
LOCATION:Arrowhead Regional Medical Center\, 400 N Pepper Avenue\, Colton\, CA\, 92324\, United States
CATEGORIES:Colton
ATTACH;FMTTYPE=image/jpeg:https://bosd5.sbcounty.gov/wp-content/uploads/sites/108/2024/01/Fresh-produce.jpg
END:VEVENT
BEGIN:VEVENT
DTSTART;TZID=UTC:20240305T080000
DTEND;TZID=UTC:20240305T130000
DTSTAMP:20260419T201916
CREATED:20240125T092344Z
LAST-MODIFIED:20240203T014048Z
UID:10000908-1709625600-1709643600@bosd5.sbcounty.gov
SUMMARY:San Bernardino Certified Farmers Market
DESCRIPTION:Over 20 vendors gather to sale farm fresh produce and baked goods every Tuesday.  Market is open year round.
URL:https://bosd5.sbcounty.gov/event/san-bernardino-certified-farmers-market/2024-03-05/
LOCATION:San Bernardino Certified Farmer’s Market\, 349 North E. Street\, San Bernardino\, CA\, 92401\, United States
CATEGORIES:San Bernardino
ATTACH;FMTTYPE=image/jpeg:https://bosd5.sbcounty.gov/wp-content/uploads/sites/108/2024/01/Farmers-Market-2.jpg
END:VEVENT
BEGIN:VEVENT
DTSTART;TZID=UTC:20240301T080000
DTEND;TZID=UTC:20240503T170000
DTSTAMP:20260419T201916
CREATED:20240126T085553Z
LAST-MODIFIED:20240126T085553Z
UID:10000731-1709280000-1714755600@bosd5.sbcounty.gov
SUMMARY:Yard Sale Weekend
DESCRIPTION:
URL:https://bosd5.sbcounty.gov/event/yard-sale-weekend/
LOCATION:CA
CATEGORIES:Rialto
ATTACH;FMTTYPE=image/jpeg:https://bosd5.sbcounty.gov/wp-content/uploads/sites/108/2024/01/Yard-Sale.jpg
END:VEVENT
BEGIN:VEVENT
DTSTART;TZID=UTC:20240228T100000
DTEND;TZID=UTC:20240228T140000
DTSTAMP:20260419T201916
CREATED:20240125T075815Z
LAST-MODIFIED:20240203T023544Z
UID:10000749-1709114400-1709128800@bosd5.sbcounty.gov
SUMMARY:Rialto Certified Farmers Market
DESCRIPTION:Fresh fruits and vegetables\, fresh eggs\, locally sourced honey\, baked goods\, nuts\, juice and much more. \nOpen year round. \nSNAP/EBT is accepted.
URL:https://bosd5.sbcounty.gov/event/rialto-certified-farmers-market/2024-02-28/
LOCATION:Rialto Certified Farmer’s Market\, 290 W Rialto Avenue\, Rialto\, 92376
CATEGORIES:Rialto
ATTACH;FMTTYPE=image/jpeg:https://bosd5.sbcounty.gov/wp-content/uploads/sites/108/2024/01/Farmers-Market.jpg
END:VEVENT
BEGIN:VEVENT
DTSTART;TZID=UTC:20240228T083000
DTEND;TZID=UTC:20240228T133000
DTSTAMP:20260419T201916
CREATED:20240126T080538Z
LAST-MODIFIED:20240203T023643Z
UID:10001067-1709109000-1709127000@bosd5.sbcounty.gov
SUMMARY:Arrowhead Regional Medical Center Certified Farmers Market
DESCRIPTION:Our weekly Farmers’ Market is open each Wednesday from 8:30 a.m. to 1:30 p.m. on the ARMC campus outside the main hospital entrance. We can’t wait to see you!
URL:https://bosd5.sbcounty.gov/event/arrowhead-regional-medical-center-certified-farmers-market/2024-02-28/
LOCATION:Arrowhead Regional Medical Center\, 400 N Pepper Avenue\, Colton\, CA\, 92324\, United States
CATEGORIES:Colton
ATTACH;FMTTYPE=image/jpeg:https://bosd5.sbcounty.gov/wp-content/uploads/sites/108/2024/01/Fresh-produce.jpg
END:VEVENT
BEGIN:VEVENT
DTSTART;TZID=UTC:20240227T080000
DTEND;TZID=UTC:20240227T130000
DTSTAMP:20260419T201916
CREATED:20240125T092344Z
LAST-MODIFIED:20240203T014048Z
UID:10000905-1709020800-1709038800@bosd5.sbcounty.gov
SUMMARY:San Bernardino Certified Farmers Market
DESCRIPTION:Over 20 vendors gather to sale farm fresh produce and baked goods every Tuesday.  Market is open year round.
URL:https://bosd5.sbcounty.gov/event/san-bernardino-certified-farmers-market/2024-02-27/
LOCATION:San Bernardino Certified Farmer’s Market\, 349 North E. Street\, San Bernardino\, CA\, 92401\, United States
CATEGORIES:San Bernardino
ATTACH;FMTTYPE=image/jpeg:https://bosd5.sbcounty.gov/wp-content/uploads/sites/108/2024/01/Farmers-Market-2.jpg
END:VEVENT
BEGIN:VEVENT
DTSTART;TZID=UTC:20240224T080000
DTEND;TZID=UTC:20240224T120000
DTSTAMP:20260419T201916
CREATED:20240126T084934Z
LAST-MODIFIED:20240126T084934Z
UID:10001289-1708761600-1708776000@bosd5.sbcounty.gov
SUMMARY:Household Hazardous Waste Drop-Off
DESCRIPTION:Event takes place behind building.
URL:https://bosd5.sbcounty.gov/event/household-hazardous-waste-drop-off-2/2024-02-24/
LOCATION:Rialto Certified Farmer’s Market\, 290 W Rialto Avenue\, Rialto\, 92376
CATEGORIES:Rialto
ATTACH;FMTTYPE=image/jpeg:https://bosd5.sbcounty.gov/wp-content/uploads/sites/108/2024/01/hazardous-waste.jpg
END:VEVENT
END:VCALENDAR