BEGIN:VCALENDAR
VERSION:2.0
PRODID:-//Joe Baca, Jr. Fifth District Supervisor - ECPv6.15.14//NONSGML v1.0//EN
CALSCALE:GREGORIAN
METHOD:PUBLISH
X-WR-CALNAME:Joe Baca, Jr. Fifth District Supervisor
X-ORIGINAL-URL:https://bosd5.sbcounty.gov
X-WR-CALDESC:Events for Joe Baca, Jr. Fifth District Supervisor
REFRESH-INTERVAL;VALUE=DURATION:PT1H
X-Robots-Tag:noindex
X-PUBLISHED-TTL:PT1H
BEGIN:VTIMEZONE
TZID:UTC
BEGIN:STANDARD
TZOFFSETFROM:+0000
TZOFFSETTO:+0000
TZNAME:UTC
DTSTART:20230101T000000
END:STANDARD
END:VTIMEZONE
BEGIN:VTIMEZONE
TZID:America/Los_Angeles
BEGIN:DAYLIGHT
TZOFFSETFROM:-0800
TZOFFSETTO:-0700
TZNAME:PDT
DTSTART:20230312T100000
END:DAYLIGHT
BEGIN:STANDARD
TZOFFSETFROM:-0700
TZOFFSETTO:-0800
TZNAME:PST
DTSTART:20231105T090000
END:STANDARD
BEGIN:DAYLIGHT
TZOFFSETFROM:-0800
TZOFFSETTO:-0700
TZNAME:PDT
DTSTART:20240310T100000
END:DAYLIGHT
BEGIN:STANDARD
TZOFFSETFROM:-0700
TZOFFSETTO:-0800
TZNAME:PST
DTSTART:20241103T090000
END:STANDARD
BEGIN:DAYLIGHT
TZOFFSETFROM:-0800
TZOFFSETTO:-0700
TZNAME:PDT
DTSTART:20250309T100000
END:DAYLIGHT
BEGIN:STANDARD
TZOFFSETFROM:-0700
TZOFFSETTO:-0800
TZNAME:PST
DTSTART:20251102T090000
END:STANDARD
END:VTIMEZONE
BEGIN:VEVENT
DTSTART;TZID=UTC:20240601T080000
DTEND;TZID=UTC:20240601T120000
DTSTAMP:20260419T091654
CREATED:20240126T084934Z
LAST-MODIFIED:20240126T084934Z
UID:10001310-1717228800-1717243200@bosd5.sbcounty.gov
SUMMARY:Household Hazardous Waste Drop-Off
DESCRIPTION:Event takes place behind building.
URL:https://bosd5.sbcounty.gov/event/household-hazardous-waste-drop-off-2/2024-06-01/
LOCATION:Rialto Certified Farmer’s Market\, 290 W Rialto Avenue\, Rialto\, 92376
CATEGORIES:Rialto
ATTACH;FMTTYPE=image/jpeg:https://bosd5.sbcounty.gov/wp-content/uploads/sites/108/2024/01/hazardous-waste.jpg
END:VEVENT
BEGIN:VEVENT
DTSTART;TZID=UTC:20240531T080000
DTEND;TZID=UTC:20240531T120000
DTSTAMP:20260419T091654
CREATED:20240126T084703Z
LAST-MODIFIED:20240126T084703Z
UID:10001238-1717142400-1717156800@bosd5.sbcounty.gov
SUMMARY:Household Hazardous Waste Drop-Off
DESCRIPTION:Event takes place behind building. \n 
URL:https://bosd5.sbcounty.gov/event/household-hazardous-waste-drop-off/2024-05-31/
LOCATION:Rialto Hazardous Waste Drop-Off\, 246 S. Willow Ave.\, Rialto\, CA\, 92376\, United States
CATEGORIES:Rialto
ATTACH;FMTTYPE=image/jpeg:https://bosd5.sbcounty.gov/wp-content/uploads/sites/108/2024/01/hazardous-waste.jpg
END:VEVENT
BEGIN:VEVENT
DTSTART;TZID=UTC:20240529T100000
DTEND;TZID=UTC:20240529T140000
DTSTAMP:20260419T091654
CREATED:20240125T075815Z
LAST-MODIFIED:20240203T023544Z
UID:10000788-1716976800-1716991200@bosd5.sbcounty.gov
SUMMARY:Rialto Certified Farmers Market
DESCRIPTION:Fresh fruits and vegetables\, fresh eggs\, locally sourced honey\, baked goods\, nuts\, juice and much more. \nOpen year round. \nSNAP/EBT is accepted.
URL:https://bosd5.sbcounty.gov/event/rialto-certified-farmers-market/2024-05-29/
LOCATION:Rialto Certified Farmer’s Market\, 290 W Rialto Avenue\, Rialto\, 92376
CATEGORIES:Rialto
ATTACH;FMTTYPE=image/jpeg:https://bosd5.sbcounty.gov/wp-content/uploads/sites/108/2024/01/Farmers-Market.jpg
END:VEVENT
BEGIN:VEVENT
DTSTART;TZID=UTC:20240529T083000
DTEND;TZID=UTC:20240529T133000
DTSTAMP:20260419T091654
CREATED:20240126T080538Z
LAST-MODIFIED:20240203T023643Z
UID:10001106-1716971400-1716989400@bosd5.sbcounty.gov
SUMMARY:Arrowhead Regional Medical Center Certified Farmers Market
DESCRIPTION:Our weekly Farmers’ Market is open each Wednesday from 8:30 a.m. to 1:30 p.m. on the ARMC campus outside the main hospital entrance. We can’t wait to see you!
URL:https://bosd5.sbcounty.gov/event/arrowhead-regional-medical-center-certified-farmers-market/2024-05-29/
LOCATION:Arrowhead Regional Medical Center\, 400 N Pepper Avenue\, Colton\, CA\, 92324\, United States
CATEGORIES:Colton
ATTACH;FMTTYPE=image/jpeg:https://bosd5.sbcounty.gov/wp-content/uploads/sites/108/2024/01/Fresh-produce.jpg
END:VEVENT
BEGIN:VEVENT
DTSTART;TZID=UTC:20240528T080000
DTEND;TZID=UTC:20240528T130000
DTSTAMP:20260419T091654
CREATED:20240125T092344Z
LAST-MODIFIED:20240203T014048Z
UID:10000944-1716883200-1716901200@bosd5.sbcounty.gov
SUMMARY:San Bernardino Certified Farmers Market
DESCRIPTION:Over 20 vendors gather to sale farm fresh produce and baked goods every Tuesday.  Market is open year round.
URL:https://bosd5.sbcounty.gov/event/san-bernardino-certified-farmers-market/2024-05-28/
LOCATION:San Bernardino Certified Farmer’s Market\, 349 North E. Street\, San Bernardino\, CA\, 92401\, United States
CATEGORIES:San Bernardino
ATTACH;FMTTYPE=image/jpeg:https://bosd5.sbcounty.gov/wp-content/uploads/sites/108/2024/01/Farmers-Market-2.jpg
END:VEVENT
BEGIN:VEVENT
DTSTART;VALUE=DATE:20240527
DTEND;VALUE=DATE:20240528
DTSTAMP:20260419T091654
CREATED:20231129T070249Z
LAST-MODIFIED:20231129T070249Z
UID:10000686-1716768000-1716854399@bosd5.sbcounty.gov
SUMMARY:Memorial Day - Federal Holiday
DESCRIPTION:
URL:https://bosd5.sbcounty.gov/event/memorial-day-federal-holiday/
LOCATION:CA
CATEGORIES:Holidays
ATTACH;FMTTYPE=image/jpeg:https://bosd5.sbcounty.gov/wp-content/uploads/sites/108/2023/10/MemorialDay.jpg
END:VEVENT
BEGIN:VEVENT
DTSTART;TZID=UTC:20240522T100000
DTEND;TZID=UTC:20240522T140000
DTSTAMP:20260419T091654
CREATED:20240125T075815Z
LAST-MODIFIED:20240203T023544Z
UID:10000785-1716372000-1716386400@bosd5.sbcounty.gov
SUMMARY:Rialto Certified Farmers Market
DESCRIPTION:Fresh fruits and vegetables\, fresh eggs\, locally sourced honey\, baked goods\, nuts\, juice and much more. \nOpen year round. \nSNAP/EBT is accepted.
URL:https://bosd5.sbcounty.gov/event/rialto-certified-farmers-market/2024-05-22/
LOCATION:Rialto Certified Farmer’s Market\, 290 W Rialto Avenue\, Rialto\, 92376
CATEGORIES:Rialto
ATTACH;FMTTYPE=image/jpeg:https://bosd5.sbcounty.gov/wp-content/uploads/sites/108/2024/01/Farmers-Market.jpg
END:VEVENT
BEGIN:VEVENT
DTSTART;TZID=UTC:20240522T083000
DTEND;TZID=UTC:20240522T133000
DTSTAMP:20260419T091654
CREATED:20240126T080538Z
LAST-MODIFIED:20240203T023643Z
UID:10001103-1716366600-1716384600@bosd5.sbcounty.gov
SUMMARY:Arrowhead Regional Medical Center Certified Farmers Market
DESCRIPTION:Our weekly Farmers’ Market is open each Wednesday from 8:30 a.m. to 1:30 p.m. on the ARMC campus outside the main hospital entrance. We can’t wait to see you!
URL:https://bosd5.sbcounty.gov/event/arrowhead-regional-medical-center-certified-farmers-market/2024-05-22/
LOCATION:Arrowhead Regional Medical Center\, 400 N Pepper Avenue\, Colton\, CA\, 92324\, United States
CATEGORIES:Colton
ATTACH;FMTTYPE=image/jpeg:https://bosd5.sbcounty.gov/wp-content/uploads/sites/108/2024/01/Fresh-produce.jpg
END:VEVENT
BEGIN:VEVENT
DTSTART;TZID=UTC:20240521T080000
DTEND;TZID=UTC:20240521T130000
DTSTAMP:20260419T091654
CREATED:20240125T092344Z
LAST-MODIFIED:20240203T014048Z
UID:10000941-1716278400-1716296400@bosd5.sbcounty.gov
SUMMARY:San Bernardino Certified Farmers Market
DESCRIPTION:Over 20 vendors gather to sale farm fresh produce and baked goods every Tuesday.  Market is open year round.
URL:https://bosd5.sbcounty.gov/event/san-bernardino-certified-farmers-market/2024-05-21/
LOCATION:San Bernardino Certified Farmer’s Market\, 349 North E. Street\, San Bernardino\, CA\, 92401\, United States
CATEGORIES:San Bernardino
ATTACH;FMTTYPE=image/jpeg:https://bosd5.sbcounty.gov/wp-content/uploads/sites/108/2024/01/Farmers-Market-2.jpg
END:VEVENT
BEGIN:VEVENT
DTSTART;TZID=UTC:20240518T080000
DTEND;TZID=UTC:20240518T120000
DTSTAMP:20260419T091654
CREATED:20240126T084934Z
LAST-MODIFIED:20240126T084934Z
UID:10001307-1716019200-1716033600@bosd5.sbcounty.gov
SUMMARY:Household Hazardous Waste Drop-Off
DESCRIPTION:Event takes place behind building.
URL:https://bosd5.sbcounty.gov/event/household-hazardous-waste-drop-off-2/2024-05-18/
LOCATION:Rialto Certified Farmer’s Market\, 290 W Rialto Avenue\, Rialto\, 92376
CATEGORIES:Rialto
ATTACH;FMTTYPE=image/jpeg:https://bosd5.sbcounty.gov/wp-content/uploads/sites/108/2024/01/hazardous-waste.jpg
END:VEVENT
BEGIN:VEVENT
DTSTART;TZID=UTC:20240517T080000
DTEND;TZID=UTC:20240517T120000
DTSTAMP:20260419T091654
CREATED:20240126T084703Z
LAST-MODIFIED:20240126T084703Z
UID:10001235-1715932800-1715947200@bosd5.sbcounty.gov
SUMMARY:Household Hazardous Waste Drop-Off
DESCRIPTION:Event takes place behind building. \n 
URL:https://bosd5.sbcounty.gov/event/household-hazardous-waste-drop-off/2024-05-17/
LOCATION:Rialto Hazardous Waste Drop-Off\, 246 S. Willow Ave.\, Rialto\, CA\, 92376\, United States
CATEGORIES:Rialto
ATTACH;FMTTYPE=image/jpeg:https://bosd5.sbcounty.gov/wp-content/uploads/sites/108/2024/01/hazardous-waste.jpg
END:VEVENT
BEGIN:VEVENT
DTSTART;TZID=UTC:20240515T100000
DTEND;TZID=UTC:20240515T140000
DTSTAMP:20260419T091654
CREATED:20240125T075815Z
LAST-MODIFIED:20240203T023544Z
UID:10000782-1715767200-1715781600@bosd5.sbcounty.gov
SUMMARY:Rialto Certified Farmers Market
DESCRIPTION:Fresh fruits and vegetables\, fresh eggs\, locally sourced honey\, baked goods\, nuts\, juice and much more. \nOpen year round. \nSNAP/EBT is accepted.
URL:https://bosd5.sbcounty.gov/event/rialto-certified-farmers-market/2024-05-15/
LOCATION:Rialto Certified Farmer’s Market\, 290 W Rialto Avenue\, Rialto\, 92376
CATEGORIES:Rialto
ATTACH;FMTTYPE=image/jpeg:https://bosd5.sbcounty.gov/wp-content/uploads/sites/108/2024/01/Farmers-Market.jpg
END:VEVENT
BEGIN:VEVENT
DTSTART;TZID=UTC:20240515T083000
DTEND;TZID=UTC:20240515T133000
DTSTAMP:20260419T091654
CREATED:20240126T080538Z
LAST-MODIFIED:20240203T023643Z
UID:10001100-1715761800-1715779800@bosd5.sbcounty.gov
SUMMARY:Arrowhead Regional Medical Center Certified Farmers Market
DESCRIPTION:Our weekly Farmers’ Market is open each Wednesday from 8:30 a.m. to 1:30 p.m. on the ARMC campus outside the main hospital entrance. We can’t wait to see you!
URL:https://bosd5.sbcounty.gov/event/arrowhead-regional-medical-center-certified-farmers-market/2024-05-15/
LOCATION:Arrowhead Regional Medical Center\, 400 N Pepper Avenue\, Colton\, CA\, 92324\, United States
CATEGORIES:Colton
ATTACH;FMTTYPE=image/jpeg:https://bosd5.sbcounty.gov/wp-content/uploads/sites/108/2024/01/Fresh-produce.jpg
END:VEVENT
BEGIN:VEVENT
DTSTART;TZID=UTC:20240514T080000
DTEND;TZID=UTC:20240514T130000
DTSTAMP:20260419T091654
CREATED:20240125T092344Z
LAST-MODIFIED:20240203T014048Z
UID:10000938-1715673600-1715691600@bosd5.sbcounty.gov
SUMMARY:San Bernardino Certified Farmers Market
DESCRIPTION:Over 20 vendors gather to sale farm fresh produce and baked goods every Tuesday.  Market is open year round.
URL:https://bosd5.sbcounty.gov/event/san-bernardino-certified-farmers-market/2024-05-14/
LOCATION:San Bernardino Certified Farmer’s Market\, 349 North E. Street\, San Bernardino\, CA\, 92401\, United States
CATEGORIES:San Bernardino
ATTACH;FMTTYPE=image/jpeg:https://bosd5.sbcounty.gov/wp-content/uploads/sites/108/2024/01/Farmers-Market-2.jpg
END:VEVENT
BEGIN:VEVENT
DTSTART;TZID=UTC:20240508T100000
DTEND;TZID=UTC:20240508T140000
DTSTAMP:20260419T091654
CREATED:20240125T075815Z
LAST-MODIFIED:20240203T023544Z
UID:10000779-1715162400-1715176800@bosd5.sbcounty.gov
SUMMARY:Rialto Certified Farmers Market
DESCRIPTION:Fresh fruits and vegetables\, fresh eggs\, locally sourced honey\, baked goods\, nuts\, juice and much more. \nOpen year round. \nSNAP/EBT is accepted.
URL:https://bosd5.sbcounty.gov/event/rialto-certified-farmers-market/2024-05-08/
LOCATION:Rialto Certified Farmer’s Market\, 290 W Rialto Avenue\, Rialto\, 92376
CATEGORIES:Rialto
ATTACH;FMTTYPE=image/jpeg:https://bosd5.sbcounty.gov/wp-content/uploads/sites/108/2024/01/Farmers-Market.jpg
END:VEVENT
BEGIN:VEVENT
DTSTART;TZID=UTC:20240508T083000
DTEND;TZID=UTC:20240508T133000
DTSTAMP:20260419T091654
CREATED:20240126T080538Z
LAST-MODIFIED:20240203T023643Z
UID:10001097-1715157000-1715175000@bosd5.sbcounty.gov
SUMMARY:Arrowhead Regional Medical Center Certified Farmers Market
DESCRIPTION:Our weekly Farmers’ Market is open each Wednesday from 8:30 a.m. to 1:30 p.m. on the ARMC campus outside the main hospital entrance. We can’t wait to see you!
URL:https://bosd5.sbcounty.gov/event/arrowhead-regional-medical-center-certified-farmers-market/2024-05-08/
LOCATION:Arrowhead Regional Medical Center\, 400 N Pepper Avenue\, Colton\, CA\, 92324\, United States
CATEGORIES:Colton
ATTACH;FMTTYPE=image/jpeg:https://bosd5.sbcounty.gov/wp-content/uploads/sites/108/2024/01/Fresh-produce.jpg
END:VEVENT
BEGIN:VEVENT
DTSTART;TZID=UTC:20240507T080000
DTEND;TZID=UTC:20240507T130000
DTSTAMP:20260419T091654
CREATED:20240125T092344Z
LAST-MODIFIED:20240203T014048Z
UID:10000935-1715068800-1715086800@bosd5.sbcounty.gov
SUMMARY:San Bernardino Certified Farmers Market
DESCRIPTION:Over 20 vendors gather to sale farm fresh produce and baked goods every Tuesday.  Market is open year round.
URL:https://bosd5.sbcounty.gov/event/san-bernardino-certified-farmers-market/2024-05-07/
LOCATION:San Bernardino Certified Farmer’s Market\, 349 North E. Street\, San Bernardino\, CA\, 92401\, United States
CATEGORIES:San Bernardino
ATTACH;FMTTYPE=image/jpeg:https://bosd5.sbcounty.gov/wp-content/uploads/sites/108/2024/01/Farmers-Market-2.jpg
END:VEVENT
BEGIN:VEVENT
DTSTART;TZID=UTC:20240504T080000
DTEND;TZID=UTC:20240504T120000
DTSTAMP:20260419T091654
CREATED:20240126T084934Z
LAST-MODIFIED:20240126T084934Z
UID:10001304-1714809600-1714824000@bosd5.sbcounty.gov
SUMMARY:Household Hazardous Waste Drop-Off
DESCRIPTION:Event takes place behind building.
URL:https://bosd5.sbcounty.gov/event/household-hazardous-waste-drop-off-2/2024-05-04/
LOCATION:Rialto Certified Farmer’s Market\, 290 W Rialto Avenue\, Rialto\, 92376
CATEGORIES:Rialto
ATTACH;FMTTYPE=image/jpeg:https://bosd5.sbcounty.gov/wp-content/uploads/sites/108/2024/01/hazardous-waste.jpg
END:VEVENT
BEGIN:VEVENT
DTSTART;TZID=UTC:20240503T080000
DTEND;TZID=UTC:20240503T120000
DTSTAMP:20260419T091654
CREATED:20240126T084703Z
LAST-MODIFIED:20240126T084703Z
UID:10001232-1714723200-1714737600@bosd5.sbcounty.gov
SUMMARY:Household Hazardous Waste Drop-Off
DESCRIPTION:Event takes place behind building. \n 
URL:https://bosd5.sbcounty.gov/event/household-hazardous-waste-drop-off/2024-05-03/
LOCATION:Rialto Hazardous Waste Drop-Off\, 246 S. Willow Ave.\, Rialto\, CA\, 92376\, United States
CATEGORIES:Rialto
ATTACH;FMTTYPE=image/jpeg:https://bosd5.sbcounty.gov/wp-content/uploads/sites/108/2024/01/hazardous-waste.jpg
END:VEVENT
BEGIN:VEVENT
DTSTART;TZID=UTC:20240501T100000
DTEND;TZID=UTC:20240501T140000
DTSTAMP:20260419T091654
CREATED:20240125T075815Z
LAST-MODIFIED:20240203T023544Z
UID:10000776-1714557600-1714572000@bosd5.sbcounty.gov
SUMMARY:Rialto Certified Farmers Market
DESCRIPTION:Fresh fruits and vegetables\, fresh eggs\, locally sourced honey\, baked goods\, nuts\, juice and much more. \nOpen year round. \nSNAP/EBT is accepted.
URL:https://bosd5.sbcounty.gov/event/rialto-certified-farmers-market/2024-05-01/
LOCATION:Rialto Certified Farmer’s Market\, 290 W Rialto Avenue\, Rialto\, 92376
CATEGORIES:Rialto
ATTACH;FMTTYPE=image/jpeg:https://bosd5.sbcounty.gov/wp-content/uploads/sites/108/2024/01/Farmers-Market.jpg
END:VEVENT
BEGIN:VEVENT
DTSTART;TZID=UTC:20240501T083000
DTEND;TZID=UTC:20240501T133000
DTSTAMP:20260419T091654
CREATED:20240126T080538Z
LAST-MODIFIED:20240203T023643Z
UID:10001094-1714552200-1714570200@bosd5.sbcounty.gov
SUMMARY:Arrowhead Regional Medical Center Certified Farmers Market
DESCRIPTION:Our weekly Farmers’ Market is open each Wednesday from 8:30 a.m. to 1:30 p.m. on the ARMC campus outside the main hospital entrance. We can’t wait to see you!
URL:https://bosd5.sbcounty.gov/event/arrowhead-regional-medical-center-certified-farmers-market/2024-05-01/
LOCATION:Arrowhead Regional Medical Center\, 400 N Pepper Avenue\, Colton\, CA\, 92324\, United States
CATEGORIES:Colton
ATTACH;FMTTYPE=image/jpeg:https://bosd5.sbcounty.gov/wp-content/uploads/sites/108/2024/01/Fresh-produce.jpg
END:VEVENT
BEGIN:VEVENT
DTSTART;TZID=UTC:20240430T080000
DTEND;TZID=UTC:20240430T130000
DTSTAMP:20260419T091654
CREATED:20240125T092344Z
LAST-MODIFIED:20240203T014048Z
UID:10000932-1714464000-1714482000@bosd5.sbcounty.gov
SUMMARY:San Bernardino Certified Farmers Market
DESCRIPTION:Over 20 vendors gather to sale farm fresh produce and baked goods every Tuesday.  Market is open year round.
URL:https://bosd5.sbcounty.gov/event/san-bernardino-certified-farmers-market/2024-04-30/
LOCATION:San Bernardino Certified Farmer’s Market\, 349 North E. Street\, San Bernardino\, CA\, 92401\, United States
CATEGORIES:San Bernardino
ATTACH;FMTTYPE=image/jpeg:https://bosd5.sbcounty.gov/wp-content/uploads/sites/108/2024/01/Farmers-Market-2.jpg
END:VEVENT
BEGIN:VEVENT
DTSTART;TZID=UTC:20240424T100000
DTEND;TZID=UTC:20240424T140000
DTSTAMP:20260419T091654
CREATED:20240125T075815Z
LAST-MODIFIED:20240203T023544Z
UID:10000773-1713952800-1713967200@bosd5.sbcounty.gov
SUMMARY:Rialto Certified Farmers Market
DESCRIPTION:Fresh fruits and vegetables\, fresh eggs\, locally sourced honey\, baked goods\, nuts\, juice and much more. \nOpen year round. \nSNAP/EBT is accepted.
URL:https://bosd5.sbcounty.gov/event/rialto-certified-farmers-market/2024-04-24/
LOCATION:Rialto Certified Farmer’s Market\, 290 W Rialto Avenue\, Rialto\, 92376
CATEGORIES:Rialto
ATTACH;FMTTYPE=image/jpeg:https://bosd5.sbcounty.gov/wp-content/uploads/sites/108/2024/01/Farmers-Market.jpg
END:VEVENT
BEGIN:VEVENT
DTSTART;TZID=UTC:20240424T083000
DTEND;TZID=UTC:20240424T133000
DTSTAMP:20260419T091654
CREATED:20240126T080538Z
LAST-MODIFIED:20240203T023643Z
UID:10001091-1713947400-1713965400@bosd5.sbcounty.gov
SUMMARY:Arrowhead Regional Medical Center Certified Farmers Market
DESCRIPTION:Our weekly Farmers’ Market is open each Wednesday from 8:30 a.m. to 1:30 p.m. on the ARMC campus outside the main hospital entrance. We can’t wait to see you!
URL:https://bosd5.sbcounty.gov/event/arrowhead-regional-medical-center-certified-farmers-market/2024-04-24/
LOCATION:Arrowhead Regional Medical Center\, 400 N Pepper Avenue\, Colton\, CA\, 92324\, United States
CATEGORIES:Colton
ATTACH;FMTTYPE=image/jpeg:https://bosd5.sbcounty.gov/wp-content/uploads/sites/108/2024/01/Fresh-produce.jpg
END:VEVENT
BEGIN:VEVENT
DTSTART;TZID=UTC:20240423T080000
DTEND;TZID=UTC:20240423T130000
DTSTAMP:20260419T091654
CREATED:20240125T092344Z
LAST-MODIFIED:20240203T014048Z
UID:10000929-1713859200-1713877200@bosd5.sbcounty.gov
SUMMARY:San Bernardino Certified Farmers Market
DESCRIPTION:Over 20 vendors gather to sale farm fresh produce and baked goods every Tuesday.  Market is open year round.
URL:https://bosd5.sbcounty.gov/event/san-bernardino-certified-farmers-market/2024-04-23/
LOCATION:San Bernardino Certified Farmer’s Market\, 349 North E. Street\, San Bernardino\, CA\, 92401\, United States
CATEGORIES:San Bernardino
ATTACH;FMTTYPE=image/jpeg:https://bosd5.sbcounty.gov/wp-content/uploads/sites/108/2024/01/Farmers-Market-2.jpg
END:VEVENT
BEGIN:VEVENT
DTSTART;TZID=America/Los_Angeles:20240420T080000
DTEND;TZID=America/Los_Angeles:20240420T120000
DTSTAMP:20260419T091654
CREATED:20240407T171138Z
LAST-MODIFIED:20240407T171219Z
UID:10001357-1713600000-1713614400@bosd5.sbcounty.gov
SUMMARY:Earth Day Community Clean Up
DESCRIPTION:Join us in making a difference this Earth Day by helping clean up our community! Register by signing up below or call 909 387-4565 for more information.
URL:https://bosd5.sbcounty.gov/event/earth-day-community-clean-up/
LOCATION:CA
CATEGORIES:Bloomington,Muscoy,San Bernardino
ATTACH;FMTTYPE=image/png:https://bosd5.sbcounty.gov/wp-content/uploads/sites/108/2024/04/World-Earth-Day-Instagram-Post-8.png
END:VEVENT
BEGIN:VEVENT
DTSTART;TZID=UTC:20240420T080000
DTEND;TZID=UTC:20240420T120000
DTSTAMP:20260419T091654
CREATED:20240126T084934Z
LAST-MODIFIED:20240126T084934Z
UID:10001301-1713600000-1713614400@bosd5.sbcounty.gov
SUMMARY:Household Hazardous Waste Drop-Off
DESCRIPTION:Event takes place behind building.
URL:https://bosd5.sbcounty.gov/event/household-hazardous-waste-drop-off-2/2024-04-20/
LOCATION:Rialto Certified Farmer’s Market\, 290 W Rialto Avenue\, Rialto\, 92376
CATEGORIES:Rialto
ATTACH;FMTTYPE=image/jpeg:https://bosd5.sbcounty.gov/wp-content/uploads/sites/108/2024/01/hazardous-waste.jpg
END:VEVENT
BEGIN:VEVENT
DTSTART;TZID=UTC:20240419T080000
DTEND;TZID=UTC:20240419T120000
DTSTAMP:20260419T091654
CREATED:20240126T084703Z
LAST-MODIFIED:20240126T084703Z
UID:10001229-1713513600-1713528000@bosd5.sbcounty.gov
SUMMARY:Household Hazardous Waste Drop-Off
DESCRIPTION:Event takes place behind building. \n 
URL:https://bosd5.sbcounty.gov/event/household-hazardous-waste-drop-off/2024-04-19/
LOCATION:Rialto Hazardous Waste Drop-Off\, 246 S. Willow Ave.\, Rialto\, CA\, 92376\, United States
CATEGORIES:Rialto
ATTACH;FMTTYPE=image/jpeg:https://bosd5.sbcounty.gov/wp-content/uploads/sites/108/2024/01/hazardous-waste.jpg
END:VEVENT
BEGIN:VEVENT
DTSTART;TZID=UTC:20240417T100000
DTEND;TZID=UTC:20240417T140000
DTSTAMP:20260419T091654
CREATED:20240125T075815Z
LAST-MODIFIED:20240203T023544Z
UID:10000770-1713348000-1713362400@bosd5.sbcounty.gov
SUMMARY:Rialto Certified Farmers Market
DESCRIPTION:Fresh fruits and vegetables\, fresh eggs\, locally sourced honey\, baked goods\, nuts\, juice and much more. \nOpen year round. \nSNAP/EBT is accepted.
URL:https://bosd5.sbcounty.gov/event/rialto-certified-farmers-market/2024-04-17/
LOCATION:Rialto Certified Farmer’s Market\, 290 W Rialto Avenue\, Rialto\, 92376
CATEGORIES:Rialto
ATTACH;FMTTYPE=image/jpeg:https://bosd5.sbcounty.gov/wp-content/uploads/sites/108/2024/01/Farmers-Market.jpg
END:VEVENT
BEGIN:VEVENT
DTSTART;TZID=UTC:20240417T083000
DTEND;TZID=UTC:20240417T133000
DTSTAMP:20260419T091654
CREATED:20240126T080538Z
LAST-MODIFIED:20240203T023643Z
UID:10001088-1713342600-1713360600@bosd5.sbcounty.gov
SUMMARY:Arrowhead Regional Medical Center Certified Farmers Market
DESCRIPTION:Our weekly Farmers’ Market is open each Wednesday from 8:30 a.m. to 1:30 p.m. on the ARMC campus outside the main hospital entrance. We can’t wait to see you!
URL:https://bosd5.sbcounty.gov/event/arrowhead-regional-medical-center-certified-farmers-market/2024-04-17/
LOCATION:Arrowhead Regional Medical Center\, 400 N Pepper Avenue\, Colton\, CA\, 92324\, United States
CATEGORIES:Colton
ATTACH;FMTTYPE=image/jpeg:https://bosd5.sbcounty.gov/wp-content/uploads/sites/108/2024/01/Fresh-produce.jpg
END:VEVENT
END:VCALENDAR