BEGIN:VCALENDAR
VERSION:2.0
PRODID:-//Joe Baca, Jr. Fifth District Supervisor - ECPv6.15.14//NONSGML v1.0//EN
CALSCALE:GREGORIAN
METHOD:PUBLISH
X-WR-CALNAME:Joe Baca, Jr. Fifth District Supervisor
X-ORIGINAL-URL:https://bosd5.sbcounty.gov
X-WR-CALDESC:Events for Joe Baca, Jr. Fifth District Supervisor
REFRESH-INTERVAL;VALUE=DURATION:PT1H
X-Robots-Tag:noindex
X-PUBLISHED-TTL:PT1H
BEGIN:VTIMEZONE
TZID:America/Los_Angeles
BEGIN:DAYLIGHT
TZOFFSETFROM:-0800
TZOFFSETTO:-0700
TZNAME:PDT
DTSTART:20240310T100000
END:DAYLIGHT
BEGIN:STANDARD
TZOFFSETFROM:-0700
TZOFFSETTO:-0800
TZNAME:PST
DTSTART:20241103T090000
END:STANDARD
BEGIN:DAYLIGHT
TZOFFSETFROM:-0800
TZOFFSETTO:-0700
TZNAME:PDT
DTSTART:20250309T100000
END:DAYLIGHT
BEGIN:STANDARD
TZOFFSETFROM:-0700
TZOFFSETTO:-0800
TZNAME:PST
DTSTART:20251102T090000
END:STANDARD
BEGIN:DAYLIGHT
TZOFFSETFROM:-0800
TZOFFSETTO:-0700
TZNAME:PDT
DTSTART:20260308T100000
END:DAYLIGHT
BEGIN:STANDARD
TZOFFSETFROM:-0700
TZOFFSETTO:-0800
TZNAME:PST
DTSTART:20261101T090000
END:STANDARD
END:VTIMEZONE
BEGIN:VEVENT
DTSTART;TZID=America/Los_Angeles:20250208T110000
DTEND;TZID=America/Los_Angeles:20250208T130000
DTSTAMP:20260424T085601
CREATED:20250124T193138Z
LAST-MODIFIED:20250124T193138Z
UID:8622-1739012400-1739019600@bosd5.sbcounty.gov
SUMMARY:2025 Kite Day with Supervisor Joe Baca\, Jr.
DESCRIPTION:Join us for an exciting event for the whole family. Enjoy a fun-filled day with kite flying\, games\, giveaways\, arts & crafts\, music\, and vendors. Pre-register here: https://secure.rec1.com/CA/San-Bernardino-County/catalog?filter=c2VhcmNoPTM0OTQ2Mzk= \nCheck- In starts at 10:30 AM.
URL:https://bosd5.sbcounty.gov/event/2025-kite-day-with-supervisor-joe-baca-jr/
CATEGORIES:Bloomington
ATTACH;FMTTYPE=image/jpeg:https://bosd5.sbcounty.gov/wp-content/uploads/sites/108/2025/01/5th_District_24_KiteDay_021-scaled.jpg
END:VEVENT
END:VCALENDAR